BEGIN:VCALENDAR
VERSION:2.0
PRODID:-//City of Walhalla - ECPv6.15.10//NONSGML v1.0//EN
CALSCALE:GREGORIAN
METHOD:PUBLISH
X-ORIGINAL-URL:https://www.cityofwalhalla.com
X-WR-CALDESC:Events for City of Walhalla
REFRESH-INTERVAL;VALUE=DURATION:PT1H
X-Robots-Tag:noindex
X-PUBLISHED-TTL:PT1H
BEGIN:VTIMEZONE
TZID:America/New_York
BEGIN:DAYLIGHT
TZOFFSETFROM:-0500
TZOFFSETTO:-0400
TZNAME:EDT
DTSTART:20240310T070000
END:DAYLIGHT
BEGIN:STANDARD
TZOFFSETFROM:-0400
TZOFFSETTO:-0500
TZNAME:EST
DTSTART:20241103T060000
END:STANDARD
BEGIN:DAYLIGHT
TZOFFSETFROM:-0500
TZOFFSETTO:-0400
TZNAME:EDT
DTSTART:20250309T070000
END:DAYLIGHT
BEGIN:STANDARD
TZOFFSETFROM:-0400
TZOFFSETTO:-0500
TZNAME:EST
DTSTART:20251102T060000
END:STANDARD
BEGIN:DAYLIGHT
TZOFFSETFROM:-0500
TZOFFSETTO:-0400
TZNAME:EDT
DTSTART:20260308T070000
END:DAYLIGHT
BEGIN:STANDARD
TZOFFSETFROM:-0400
TZOFFSETTO:-0500
TZNAME:EST
DTSTART:20261101T060000
END:STANDARD
END:VTIMEZONE
BEGIN:VEVENT
DTSTART;TZID=America/New_York:20251214T130000
DTEND;TZID=America/New_York:20251214T150000
DTSTAMP:20260420T135218
CREATED:20251031T205511Z
LAST-MODIFIED:20251031T205511Z
UID:11989-1765717200-1765724400@www.cityofwalhalla.com
SUMMARY:COOKIES WITH SANTA
DESCRIPTION:Bring the kids and make unforgettable memories as you enjoy cookies and crafts with Santa! \nPlease register each child separately. Entries will be limited to 100. If you have questions please email ovassey@cityofwalhalla.com.
URL:https://www.cityofwalhalla.com/event/cookies-with-santa/
LOCATION:Walhalla Depot\, 211 N College Street\, Walhalla\, SC\, 29691\, United States
CATEGORIES:City Events
ATTACH;FMTTYPE=image/jpeg:https://www.cityofwalhalla.com/wp-content/uploads/cookies-1-1.jpg
END:VEVENT
BEGIN:VEVENT
DTSTART;TZID=America/New_York:20251206T193000
DTEND;TZID=America/New_York:20251206T213000
DTSTAMP:20260420T135218
CREATED:20251120T203614Z
LAST-MODIFIED:20251120T203614Z
UID:12787-1765049400-1765056600@www.cityofwalhalla.com
SUMMARY:One Night of Queen - Performed by Gary Mullen & The Works
DESCRIPTION:One Night of Queen is a touring 2-hour stage show\, paying tribute to the stage theatrics and music of Queen. \nIt is performed by Gary Mullen & The Works\, a band headed by Freddie Mercury imitator Gary Mullen\, who had previously won the talent show Stars in Their Eyes with his vocal and visual imitation of Mercury. \nThe other members of the band are David Brockett on guitar\, Jon Halliwell on drums and Malcolm Gentles on keyboards.
URL:https://www.cityofwalhalla.com/event/one-night-of-queen-performed-by-gary-mullen-the-works/
LOCATION:Walhalla Performing Arts Center\, 101 E. N. Broad St\, Walhalla\, SC\, 29691\, United States
CATEGORIES:City Events
ATTACH;FMTTYPE=image/jpeg:https://www.cityofwalhalla.com/wp-content/uploads/onenightofqueen-208copy.jpg
END:VEVENT
BEGIN:VEVENT
DTSTART;TZID=America/New_York:20251206T170000
DTEND;TZID=America/New_York:20251206T190000
DTSTAMP:20260420T135218
CREATED:20251031T205543Z
LAST-MODIFIED:20251031T205543Z
UID:11977-1765040400-1765047600@www.cityofwalhalla.com
SUMMARY:WALHALLA CHRISTMAS PARADE
DESCRIPTION:The Walhalla Christmas Parade will be Saturday\, December 6 at 5 PM. The theme is Christmas Movies.
URL:https://www.cityofwalhalla.com/event/walhalla-christmas-parade/
LOCATION:Main Street\, Walhalla\, SC
CATEGORIES:City Events
ATTACH;FMTTYPE=image/png:https://www.cityofwalhalla.com/wp-content/uploads/2025-parade-1-1.png
ORGANIZER;CN="City of Walhalla SC":MAILTO:ovassey@cityofwalhalla.com
END:VEVENT
BEGIN:VEVENT
DTSTART;TZID=America/New_York:20251205T193000
DTEND;TZID=America/New_York:20251205T213000
DTSTAMP:20260420T135218
CREATED:20251120T203614Z
LAST-MODIFIED:20251120T203614Z
UID:12778-1764963000-1764970200@www.cityofwalhalla.com
SUMMARY:The Bellamy Brothers: The Love Still Flows 2025
DESCRIPTION:THE BELLAMY BROTHERS: THE LOVE STILL FLOWS…\n\nHoward and David continue to prove that the trail they’ve ridden to fame has been as unique as their music itself—music that is now celebrating 40 years of success.\n\nThe road that started on the pop music charts in the ‘70’s\, took a winding turn into country music in the ‘80’s\, paving the way for duos to come\, such as Brooks & Dunn\, Montgomery Gentry\, Big & Rich\, and previously—The Judd’s. But before the road forked into country\, the musical odyssey of brothers Bellamy started creatively smoldering in their home state of Florida\, before exploding nationally amidst the ’70’s pop music culture of L.A.
URL:https://www.cityofwalhalla.com/event/the-bellamy-brothers-the-love-still-flows-2025/
LOCATION:Walhalla Performing Arts Center\, 101 E. N. Broad St\, Walhalla\, SC\, 29691\, United States
CATEGORIES:City Events
ATTACH;FMTTYPE=image/jpeg:https://www.cityofwalhalla.com/wp-content/uploads/bellamy-brothers.jpg
END:VEVENT
BEGIN:VEVENT
DTSTART;TZID=America/New_York:20251205T173000
DTEND;TZID=America/New_York:20251205T190000
DTSTAMP:20260420T135218
CREATED:20251031T205555Z
LAST-MODIFIED:20251031T205555Z
UID:11984-1764955800-1764961200@www.cityofwalhalla.com
SUMMARY:WALHALLA CHRISTMAS TREE LIGHTING
DESCRIPTION:Join us in lighting our community Christmas Tree. Bring the whole family and enjoy the sights and sounds of Christmas.
URL:https://www.cityofwalhalla.com/event/walhalla-christmas-tree-lighting/
LOCATION:Main Street\, Walhalla\, SC
CATEGORIES:City Events
ATTACH;FMTTYPE=image/png:https://www.cityofwalhalla.com/wp-content/uploads/tree-lighting-1.png
END:VEVENT
BEGIN:VEVENT
DTSTART;TZID=America/New_York:20251130T170000
DTEND;TZID=America/New_York:20251130T190000
DTSTAMP:20260420T135218
CREATED:20251120T203614Z
LAST-MODIFIED:20251120T203614Z
UID:12768-1764522000-1764529200@www.cityofwalhalla.com
SUMMARY:Celtic Angels Christmas 2025
DESCRIPTION:Celtic Angels Christmas is a joyous celebration from start to finish\, encompassing vocal and instrumental Holiday and Irish favorites. Paired with show stopping world class champion Irish dancing and a fully live band\, Celtic Angels Christmas is sure to awe and entertain. \nThese dynamic divas enthrall and delight with their jaw dropping performances and spine tingling harmonies.? Musical arranger Peter Sheridan (Cavan\, Celtic Thunder) ingeniously marries the old and new worlds with traditional and contemporary Irish and Holiday tunes. Brought to life by the immensely talented Trinity Ensemble. Hands will be clapping and toes will be tapping.
URL:https://www.cityofwalhalla.com/event/celtic-angels-christmas-2025/
LOCATION:Walhalla Performing Arts Center\, 101 E. N. Broad St\, Walhalla\, SC\, 29691\, United States
CATEGORIES:City Events
ATTACH;FMTTYPE=image/jpeg:https://www.cityofwalhalla.com/wp-content/uploads/celtic-angels-christmas.jpg
ORGANIZER;CN="Walhalla Performing Arts Center":MAILTO:walhallapac@gmail.com
END:VEVENT
BEGIN:VEVENT
DTSTART;TZID=America/New_York:20251128T193000
DTEND;TZID=America/New_York:20251128T213000
DTSTAMP:20260420T135218
CREATED:20251120T203613Z
LAST-MODIFIED:20251120T203613Z
UID:12763-1764358200-1764365400@www.cityofwalhalla.com
SUMMARY:Rumours - A Fleetwood Mac Tribute Returns 2025
DESCRIPTION:For over a decade\, Rumours ATL has proven to be the most authentic live recreation of Fleetwood Mac’s golden era.\n\nWith a reverence for the legendary group’s rich history\, Rumours ATL masterfully captures the magic of Fleetwood Mac’s iconic sound. From the hauntingly beautiful melodies of “Rhiannon” and “Songbird” to the electrifying energy of “Go Your Own Way\,” every performance is a journey through the timeless classics that defined a generation and continues to influence pop and rock music today.
URL:https://www.cityofwalhalla.com/event/rumours-a-fleetwood-mac-tribute-returns-2025/
LOCATION:Walhalla Performing Arts Center\, 101 E. N. Broad St\, Walhalla\, SC\, 29691\, United States
CATEGORIES:City Events
ATTACH;FMTTYPE=image/jpeg:https://www.cityofwalhalla.com/wp-content/uploads/rumours.jpg
END:VEVENT
BEGIN:VEVENT
DTSTART;TZID=America/New_York:20251121T193000
DTEND;TZID=America/New_York:20251121T213000
DTSTAMP:20260420T135218
CREATED:20251120T203509Z
LAST-MODIFIED:20251120T203509Z
UID:12757-1763753400-1763760600@www.cityofwalhalla.com
SUMMARY:Ozzy Osbourne Tribute - "Flying High Again"
DESCRIPTION:ALL ABOARD! \nGet ready to go flying with Rock’s most beloved Madman — the one and only OZZY OSBOURNE! \n“Flying High Again” is a high-energy rock show from start to finish\, giving Ozzy fans of all ages something to “Go Crazy” for! \nDelivering a stunningly accurate tribute to the look\, sound\, staging\, setlist\, and overall experience of a true Ozzy concert\, FHA celebrates the life\, music\, and legacy of the Prince of Darkness. Founded in 2019 by five lifelong Ozzy fans\, “Flying High Again” began rehearsing shortly after Ozzy announced he would no longer tour due to health issues and his battle with Parkinson’s disease. With Ozzy’s passing\, our mission is more meaningful than ever — to keep his spirit and music alive for generations of fans. \nFHA captures the same hard-driving musical energy\, outrageous humor\, and unfiltered metal mayhem that Ozzy brought to the stage for over five decades. \nPerforming the biggest hits from every era of his 50+ year career — from Black Sabbath classics to solo anthems — “Flying High Again” delivers an unforgettable night of headbanging\, crowd-singing\, and pure heavy metal celebration in honor of one of the greatest rock icons of all time.
URL:https://www.cityofwalhalla.com/event/ozzy-osbourne-tribute-flying-high-again/
LOCATION:Walhalla Performing Arts Center\, 101 E. N. Broad St\, Walhalla\, SC\, 29691\, United States
CATEGORIES:City Events
ATTACH;FMTTYPE=image/jpeg:https://www.cityofwalhalla.com/wp-content/uploads/ozzy.jpg
END:VEVENT
END:VCALENDAR