BEGIN:VCALENDAR
VERSION:2.0
PRODID:-//City of Walhalla - ECPv6.15.10//NONSGML v1.0//EN
CALSCALE:GREGORIAN
METHOD:PUBLISH
X-WR-CALNAME:City of Walhalla
X-ORIGINAL-URL:https://www.cityofwalhalla.com
X-WR-CALDESC:Events for City of Walhalla
REFRESH-INTERVAL;VALUE=DURATION:PT1H
X-Robots-Tag:noindex
X-PUBLISHED-TTL:PT1H
BEGIN:VTIMEZONE
TZID:America/New_York
BEGIN:DAYLIGHT
TZOFFSETFROM:-0500
TZOFFSETTO:-0400
TZNAME:EDT
DTSTART:20240310T070000
END:DAYLIGHT
BEGIN:STANDARD
TZOFFSETFROM:-0400
TZOFFSETTO:-0500
TZNAME:EST
DTSTART:20241103T060000
END:STANDARD
BEGIN:DAYLIGHT
TZOFFSETFROM:-0500
TZOFFSETTO:-0400
TZNAME:EDT
DTSTART:20250309T070000
END:DAYLIGHT
BEGIN:STANDARD
TZOFFSETFROM:-0400
TZOFFSETTO:-0500
TZNAME:EST
DTSTART:20251102T060000
END:STANDARD
BEGIN:DAYLIGHT
TZOFFSETFROM:-0500
TZOFFSETTO:-0400
TZNAME:EDT
DTSTART:20260308T070000
END:DAYLIGHT
BEGIN:STANDARD
TZOFFSETFROM:-0400
TZOFFSETTO:-0500
TZNAME:EST
DTSTART:20261101T060000
END:STANDARD
END:VTIMEZONE
BEGIN:VEVENT
DTSTART;TZID=America/New_York:20251216T190000
DTEND;TZID=America/New_York:20251216T210000
DTSTAMP:20260422T065136
CREATED:20260102T174928Z
LAST-MODIFIED:20260102T174928Z
UID:13348-1765911600-1765918800@www.cityofwalhalla.com
SUMMARY:John Cowan\, Allen Shadd & Richard Smith with Special Guests Brandi Colt & Andrew Crawford
DESCRIPTION:John Cowan\, hailed as the Voice of Newgrass\, has been singing his heart out for more than forty years and his soaring vocals have only improved with time. A true innovator\, Cowan applies his powerful pipes to genres from country\, bluegrass\, and gospel to soul\, jazz\, and rock – often within the space of a single concert. With his distinctive\, rock-tinged tenor vocal and heart-thumping electric bass\, Cowan along with fellow New Grass Revival bandmates Sam Bush\, Courtney Johnson\, and Curtis Burch\, and later Bela Fleck and Pat Flynn\, introduced a new generation of music fans to an explosive\, experimental and ultimately\, an eponymous brand of bluegrass.
URL:https://www.cityofwalhalla.com/event/john-cowan-allen-shadd-richard-smith-with-special-guests-brandi-colt-andrew-crawford/
LOCATION:Walhalla Performing Arts Center\, 101 E. N. Broad St\, Walhalla\, SC\, 29691\, United States
CATEGORIES:Walhalla Performing Arts Center
ATTACH;FMTTYPE=image/jpeg:https://www.cityofwalhalla.com/wp-content/uploads/trio.jpg
ORGANIZER;CN="Walhalla Performing Arts Center":MAILTO:walhallapac@gmail.com
END:VEVENT
BEGIN:VEVENT
DTSTART;TZID=America/New_York:20251220T193000
DTEND;TZID=America/New_York:20251220T213000
DTSTAMP:20260422T065136
CREATED:20260102T174928Z
LAST-MODIFIED:20260102T174928Z
UID:13353-1766259000-1766266200@www.cityofwalhalla.com
SUMMARY:The Black Jacket Symphony Presents: Pink Floyd's "The Wall"
DESCRIPTION:When is a symphony actually a rock show? When The Black Jacket Symphony comes to town! \n\n\nThe talented musicians of The Black Jacket Symphony bring the music of legendary rock bands to life at every show\, this time to perform Pink Floyd’s “The Wall”.\n\nThe Black Jacket Symphony offers a unique concert experience through recreating classic albums in a live performance setting. A selected album is performed in its entirety by a group of handpicked musicians specifically selected for each album\, with no sonic detail being overlooked–the musicians do whatever it takes to musically reproduce the album.
URL:https://www.cityofwalhalla.com/event/the-black-jacket-symphony-presents-pink-floyds-the-wall/
LOCATION:Walhalla Performing Arts Center\, 101 E. N. Broad St\, Walhalla\, SC\, 29691\, United States
CATEGORIES:Walhalla Performing Arts Center
ATTACH;FMTTYPE=image/jpeg:https://www.cityofwalhalla.com/wp-content/uploads/bjs-the-wall.jpg
ORGANIZER;CN="Walhalla Performing Arts Center":MAILTO:walhallapac@gmail.com
END:VEVENT
END:VCALENDAR