BEGIN:VCALENDAR
VERSION:2.0
PRODID:-//City of Walhalla - ECPv6.15.10//NONSGML v1.0//EN
CALSCALE:GREGORIAN
METHOD:PUBLISH
X-WR-CALNAME:City of Walhalla
X-ORIGINAL-URL:https://www.cityofwalhalla.com
X-WR-CALDESC:Events for City of Walhalla
REFRESH-INTERVAL;VALUE=DURATION:PT1H
X-Robots-Tag:noindex
X-PUBLISHED-TTL:PT1H
BEGIN:VTIMEZONE
TZID:America/New_York
BEGIN:DAYLIGHT
TZOFFSETFROM:-0500
TZOFFSETTO:-0400
TZNAME:EDT
DTSTART:20250309T070000
END:DAYLIGHT
BEGIN:STANDARD
TZOFFSETFROM:-0400
TZOFFSETTO:-0500
TZNAME:EST
DTSTART:20251102T060000
END:STANDARD
BEGIN:DAYLIGHT
TZOFFSETFROM:-0500
TZOFFSETTO:-0400
TZNAME:EDT
DTSTART:20260308T070000
END:DAYLIGHT
BEGIN:STANDARD
TZOFFSETFROM:-0400
TZOFFSETTO:-0500
TZNAME:EST
DTSTART:20261101T060000
END:STANDARD
BEGIN:DAYLIGHT
TZOFFSETFROM:-0500
TZOFFSETTO:-0400
TZNAME:EDT
DTSTART:20270314T070000
END:DAYLIGHT
BEGIN:STANDARD
TZOFFSETFROM:-0400
TZOFFSETTO:-0500
TZNAME:EST
DTSTART:20271107T060000
END:STANDARD
END:VTIMEZONE
BEGIN:VEVENT
DTSTART;TZID=America/New_York:20260207T193000
DTEND;TZID=America/New_York:20260207T213000
DTSTAMP:20260420T155737
CREATED:20260102T174929Z
LAST-MODIFIED:20260102T174929Z
UID:13393-1770492600-1770499800@www.cityofwalhalla.com
SUMMARY:The Wobblers- Sponsored by Oconee County & Visit Oconee with Special Guests: Cannon Cohen Band
DESCRIPTION:The Wobblers\, going into their 13th year in 2025 are a South Carolina\, eight piece\, genre defying\, roots band pulling from New Orleans rhythms\, and including elements of Memphis Soul\, Chicago Blues\, with heavy Hammond organ and brassy horns. \nThe band includes a 4 piece horn section\, piano\, organ\, guitar\, bass and drums\, and plays about half original music\, and half eclectic soul infused rearranged covers\, (the song list is…..long. very very long)  and has performed locally and regionally for the last 11 or so years and has developed a cult following as one of Upstate South Carolina’s most original sounding bands.
URL:https://www.cityofwalhalla.com/event/the-wobblers-sponsored-by-oconee-county-visit-oconee-with-special-guests-cannon-cohen-band/
LOCATION:Walhalla Performing Arts Center\, 101 E. N. Broad St\, Walhalla\, SC\, 29691\, United States
CATEGORIES:Walhalla Performing Arts Center
ATTACH;FMTTYPE=image/jpeg:https://www.cityofwalhalla.com/wp-content/uploads/the-wobblers.jpg
ORGANIZER;CN="Walhalla Performing Arts Center":MAILTO:walhallapac@gmail.com
END:VEVENT
END:VCALENDAR