BEGIN:VCALENDAR
VERSION:2.0
PRODID:-//City of Walhalla - ECPv6.15.10//NONSGML v1.0//EN
CALSCALE:GREGORIAN
METHOD:PUBLISH
X-ORIGINAL-URL:https://www.cityofwalhalla.com
X-WR-CALDESC:Events for City of Walhalla
REFRESH-INTERVAL;VALUE=DURATION:PT1H
X-Robots-Tag:noindex
X-PUBLISHED-TTL:PT1H
BEGIN:VTIMEZONE
TZID:America/New_York
BEGIN:DAYLIGHT
TZOFFSETFROM:-0500
TZOFFSETTO:-0400
TZNAME:EDT
DTSTART:20250309T070000
END:DAYLIGHT
BEGIN:STANDARD
TZOFFSETFROM:-0400
TZOFFSETTO:-0500
TZNAME:EST
DTSTART:20251102T060000
END:STANDARD
BEGIN:DAYLIGHT
TZOFFSETFROM:-0500
TZOFFSETTO:-0400
TZNAME:EDT
DTSTART:20260308T070000
END:DAYLIGHT
BEGIN:STANDARD
TZOFFSETFROM:-0400
TZOFFSETTO:-0500
TZNAME:EST
DTSTART:20261101T060000
END:STANDARD
BEGIN:DAYLIGHT
TZOFFSETFROM:-0500
TZOFFSETTO:-0400
TZNAME:EDT
DTSTART:20270314T070000
END:DAYLIGHT
BEGIN:STANDARD
TZOFFSETFROM:-0400
TZOFFSETTO:-0500
TZNAME:EST
DTSTART:20271107T060000
END:STANDARD
END:VTIMEZONE
BEGIN:VEVENT
DTSTART;TZID=America/New_York:20260213T193000
DTEND;TZID=America/New_York:20260213T213000
DTSTAMP:20260420T154153
CREATED:20260102T174929Z
LAST-MODIFIED:20260102T174929Z
UID:13398-1771011000-1771018200@www.cityofwalhalla.com
SUMMARY:Mothers Finest- The Funk Returns (Friday) 2026
DESCRIPTION:“Too Funk for Rock\, Too Rock for Funk.” \n\nMothers Finest has always been a band impossible to force into artificially-labelled boxes. One of the most energetic and charismatic groups to cut a swath through the music industry\, Mothers Finest defies boundaries and creates its own genre. Led by superbly talented vocalists Glenn “Doc” Murdock and Joyce “Baby Jean” Kennedy\, and anchored by the tight\, crunchy rhythm section of Gary “Moses Mo” Moore and John “Red Devil” Hayes on guitars\, Juan Vandunk on bass\, and Dion Derek on drums\, Mothers Finest drives through the pocket like a Mack truck and peels the paint off the walls.
URL:https://www.cityofwalhalla.com/event/mothers-finest-the-funk-returns-friday-2026/
LOCATION:Walhalla Performing Arts Center\, 101 E. N. Broad St\, Walhalla\, SC\, 29691\, United States
CATEGORIES:Walhalla Performing Arts Center
ATTACH;FMTTYPE=image/jpeg:https://www.cityofwalhalla.com/wp-content/uploads/mothers-finest-2.jpg
ORGANIZER;CN="Walhalla Performing Arts Center":MAILTO:walhallapac@gmail.com
END:VEVENT
END:VCALENDAR