BEGIN:VCALENDAR
VERSION:2.0
PRODID:-//City of Walhalla - ECPv6.15.10//NONSGML v1.0//EN
CALSCALE:GREGORIAN
METHOD:PUBLISH
X-ORIGINAL-URL:https://www.cityofwalhalla.com
X-WR-CALDESC:Events for City of Walhalla
REFRESH-INTERVAL;VALUE=DURATION:PT1H
X-Robots-Tag:noindex
X-PUBLISHED-TTL:PT1H
BEGIN:VTIMEZONE
TZID:America/New_York
BEGIN:DAYLIGHT
TZOFFSETFROM:-0500
TZOFFSETTO:-0400
TZNAME:EDT
DTSTART:20250309T070000
END:DAYLIGHT
BEGIN:STANDARD
TZOFFSETFROM:-0400
TZOFFSETTO:-0500
TZNAME:EST
DTSTART:20251102T060000
END:STANDARD
BEGIN:DAYLIGHT
TZOFFSETFROM:-0500
TZOFFSETTO:-0400
TZNAME:EDT
DTSTART:20260308T070000
END:DAYLIGHT
BEGIN:STANDARD
TZOFFSETFROM:-0400
TZOFFSETTO:-0500
TZNAME:EST
DTSTART:20261101T060000
END:STANDARD
BEGIN:DAYLIGHT
TZOFFSETFROM:-0500
TZOFFSETTO:-0400
TZNAME:EDT
DTSTART:20270314T070000
END:DAYLIGHT
BEGIN:STANDARD
TZOFFSETFROM:-0400
TZOFFSETTO:-0500
TZNAME:EST
DTSTART:20271107T060000
END:STANDARD
END:VTIMEZONE
BEGIN:VEVENT
DTSTART;TZID=America/New_York:20260424T193000
DTEND;TZID=America/New_York:20260424T213000
DTSTAMP:20260420T101741
CREATED:20260102T175121Z
LAST-MODIFIED:20260102T175121Z
UID:13477-1777059000-1777066200@www.cityofwalhalla.com
SUMMARY:Emily Ann Roberts - As Seen on 'The Voice'
DESCRIPTION:They say the path to the grandest stage is paved with relentless practice\, and Emily Ann Roberts embodies this mantra. From humble beginnings on small Knoxville stages to numerous performances at the Grand Ole Opry\, Roberts has diligently earned her place in the spotlight. Her journey began as a standout and runner-up finisher on Blake Shelton’s team on “The Voice\,” a remarkable achievement even before graduating high school. Since then\, Roberts has amassed a wealth of experience in performing\, songwriting and recording. This dedication has translated into more than 75 million global streams\, solidifying her status as a rising star in country music.
URL:https://www.cityofwalhalla.com/event/emily-ann-roberts-as-seen-on-the-voice/
LOCATION:Walhalla Performing Arts Center\, 101 E. N. Broad St\, Walhalla\, SC\, 29691\, United States
CATEGORIES:Walhalla Performing Arts Center
ATTACH;FMTTYPE=image/jpeg:https://www.cityofwalhalla.com/wp-content/uploads/emilyannroberts_resized.jpg
ORGANIZER;CN="Walhalla Performing Arts Center":MAILTO:walhallapac@gmail.com
END:VEVENT
BEGIN:VEVENT
DTSTART;TZID=America/New_York:20260425T193000
DTEND;TZID=America/New_York:20260425T213000
DTSTAMP:20260420T101741
CREATED:20260102T175121Z
LAST-MODIFIED:20260102T175121Z
UID:13482-1777145400-1777152600@www.cityofwalhalla.com
SUMMARY:Loretta Lynn's Original Band 'The Coalminers' Presents: Always Loretta featuring Emily Portman
DESCRIPTION:Always Loretta: \nAlways Loretta is a show dedicated to honoring the timeless music and legacy of country music legend Loretta Lynn. Led by Emily Portman and the Original Coalminers\, the show recreates Loretta’s greatest hits and unforgettable moments\, keeping her music alive for future generations. With heartfelt performances and authentic storytelling\, Always Loretta celebrates the life and impact of one of country music’s most iconic voices.
URL:https://www.cityofwalhalla.com/event/loretta-lynns-original-band-the-coalminers-presents-always-loretta-featuring-emily-portman/
LOCATION:Walhalla Performing Arts Center\, 101 E. N. Broad St\, Walhalla\, SC\, 29691\, United States
CATEGORIES:Walhalla Performing Arts Center
ATTACH;FMTTYPE=image/jpeg:https://www.cityofwalhalla.com/wp-content/uploads/always-loretta.jpg
ORGANIZER;CN="Walhalla Performing Arts Center":MAILTO:walhallapac@gmail.com
END:VEVENT
END:VCALENDAR